Package: RLassoCox Version: 1.14.0 Command: /Library/Frameworks/R.framework/Resources/bin/R CMD INSTALL RLassoCox StartedAt: 2025-01-27 17:15:26 -0500 (Mon, 27 Jan 2025) EndedAt: 2025-01-27 17:15:33 -0500 (Mon, 27 Jan 2025) EllapsedTime: 7.8 seconds RetCode: 0 Status: OK