Package: RLassoCox Version: 1.14.0 Command: /Library/Frameworks/R.framework/Resources/bin/R CMD build --keep-empty-dirs --no-resave-data RLassoCox StartedAt: 2025-04-01 06:20:05 -0400 (Tue, 01 Apr 2025) EndedAt: 2025-04-01 06:21:30 -0400 (Tue, 01 Apr 2025) EllapsedTime: 84.8 seconds RetCode: 0 Status: OK PackageFile: RLassoCox_1.14.0.tar.gz PackageFileSize: 1.966 MiB