Package: RLMM Version: 1.68.0 Command: /Library/Frameworks/R.framework/Resources/bin/R CMD INSTALL RLMM StartedAt: 2025-01-27 15:09:13 -0500 (Mon, 27 Jan 2025) EndedAt: 2025-01-27 15:09:27 -0500 (Mon, 27 Jan 2025) EllapsedTime: 13.5 seconds RetCode: 0 Status: OK