Package: RLMM Version: 1.68.0 Command: /Library/Frameworks/R.framework/Resources/bin/R CMD check --install=check:RLMM.install-out.txt --library=/Library/Frameworks/R.framework/Resources/library --no-vignettes --timings RLMM_1.68.0.tar.gz StartedAt: 2025-01-28 09:12:08 -0500 (Tue, 28 Jan 2025) EndedAt: 2025-01-28 09:12:48 -0500 (Tue, 28 Jan 2025) EllapsedTime: 39.6 seconds RetCode: 0 Status: OK CheckDir: RLMM.Rcheck Warnings: 0