Package: RLMM Version: 1.68.0 Command: /Library/Frameworks/R.framework/Resources/bin/R CMD build --keep-empty-dirs --no-resave-data RLMM StartedAt: 2025-01-27 22:00:44 -0500 (Mon, 27 Jan 2025) EndedAt: 2025-01-27 22:01:01 -0500 (Mon, 27 Jan 2025) EllapsedTime: 17.2 seconds RetCode: 0 Status: OK PackageFile: RLMM_1.68.0.tar.gz PackageFileSize: 419.4 KiB