Package: RLMM Version: 1.68.0 Command: /Library/Frameworks/R.framework/Resources/bin/R CMD build --keep-empty-dirs --no-resave-data RLMM StartedAt: 2025-01-28 06:35:23 -0500 (Tue, 28 Jan 2025) EndedAt: 2025-01-28 06:35:35 -0500 (Tue, 28 Jan 2025) EllapsedTime: 12.6 seconds RetCode: 0 Status: OK PackageFile: RLMM_1.68.0.tar.gz PackageFileSize: 419.5 KiB