Package: RJMCMCNucleosomes Version: 1.30.0 Command: /home/biocbuild/bbs-3.20-bioc/R/bin/R CMD INSTALL RJMCMCNucleosomes StartedAt: 2025-01-27 16:13:58 -0500 (Mon, 27 Jan 2025) EndedAt: 2025-01-27 16:14:45 -0500 (Mon, 27 Jan 2025) EllapsedTime: 47.1 seconds RetCode: 0 Status: OK