Package: RImmPort Version: 1.34.0 Command: chmod a+r RImmPort -R && F:\biocbuild\bbs-3.20-bioc\R\bin\R.exe CMD build --keep-empty-dirs --no-resave-data RImmPort StartedAt: 2025-01-27 21:30:54 -0500 (Mon, 27 Jan 2025) EndedAt: 2025-01-27 21:31:59 -0500 (Mon, 27 Jan 2025) EllapsedTime: 64.3 seconds RetCode: 0 Status: OK PackageFile: RImmPort_1.34.0.tar.gz PackageFileSize: 2.827 MiB