Package: RImmPort Version: 1.34.0 Command: rm -rf RImmPort.buildbin-libdir && mkdir RImmPort.buildbin-libdir && F:\biocbuild\bbs-3.20-bioc\R\bin\R.exe CMD INSTALL --build --library=RImmPort.buildbin-libdir RImmPort_1.34.0.tar.gz StartedAt: 2025-01-28 08:59:00 -0500 (Tue, 28 Jan 2025) EndedAt: 2025-01-28 08:59:39 -0500 (Tue, 28 Jan 2025) EllapsedTime: 38.4 seconds RetCode: 0 Status: OK PackageFile: RImmPort_1.34.0.zip PackageFileSize: 2.523 MiB