Package: RImmPort Version: 1.33.0 Command: F:\biocbuild\bbs-3.20-bioc\R\bin\R.exe CMD check --no-multiarch --install=check:RImmPort.install-out.txt --library=F:\biocbuild\bbs-3.20-bioc\R\library --no-vignettes --timings RImmPort_1.33.0.tar.gz StartedAt: 2024-06-10 08:22:30 -0400 (Mon, 10 Jun 2024) EndedAt: 2024-06-10 08:26:43 -0400 (Mon, 10 Jun 2024) EllapsedTime: 252.5 seconds RetCode: 0 Status: OK CheckDir: RImmPort.Rcheck Warnings: 0