Package: RImmPort Version: 1.34.0 Command: /Library/Frameworks/R.framework/Resources/bin/R CMD build --keep-empty-dirs --no-resave-data RImmPort StartedAt: 2025-04-01 06:18:22 -0400 (Tue, 01 Apr 2025) EndedAt: 2025-04-01 06:18:56 -0400 (Tue, 01 Apr 2025) EllapsedTime: 33.7 seconds RetCode: 0 Status: OK PackageFile: RImmPort_1.34.0.tar.gz PackageFileSize: 2.823 MiB