Package: RIVER Version: 1.30.0 Command: /Library/Frameworks/R.framework/Resources/bin/R CMD build --keep-empty-dirs --no-resave-data RIVER StartedAt: 2025-01-30 22:17:29 -0500 (Thu, 30 Jan 2025) EndedAt: 2025-01-30 22:18:22 -0500 (Thu, 30 Jan 2025) EllapsedTime: 53.1 seconds RetCode: 0 Status: OK PackageFile: RIVER_1.30.0.tar.gz PackageFileSize: 1.472 MiB