Package: RIVER Version: 1.30.0 Command: /Library/Frameworks/R.framework/Resources/bin/R CMD check --install=check:RIVER.install-out.txt --library=/Library/Frameworks/R.framework/Resources/library --no-vignettes --timings RIVER_1.30.0.tar.gz StartedAt: 2025-04-02 06:24:09 -0400 (Wed, 02 Apr 2025) EndedAt: 2025-04-02 06:25:46 -0400 (Wed, 02 Apr 2025) EllapsedTime: 96.8 seconds RetCode: 0 Status: OK CheckDir: RIVER.Rcheck Warnings: 0