Package: RITAN Version: 1.30.0 Command: rm -rf RITAN.buildbin-libdir && mkdir RITAN.buildbin-libdir && F:\biocbuild\bbs-3.20-bioc\R\bin\R.exe CMD INSTALL --build --library=RITAN.buildbin-libdir RITAN_1.30.0.tar.gz StartedAt: 2025-01-28 08:59:14 -0500 (Tue, 28 Jan 2025) EndedAt: 2025-01-28 09:00:09 -0500 (Tue, 28 Jan 2025) EllapsedTime: 54.7 seconds RetCode: 0 Status: OK PackageFile: RITAN_1.30.0.zip PackageFileSize: 458.5 KiB