Package: RITAN Version: 1.30.0 Command: /home/biocbuild/bbs-3.20-bioc/R/bin/R CMD INSTALL RITAN StartedAt: 2025-01-27 16:20:02 -0500 (Mon, 27 Jan 2025) EndedAt: 2025-01-27 16:20:46 -0500 (Mon, 27 Jan 2025) EllapsedTime: 43.8 seconds RetCode: 0 Status: OK