Package: RITAN Version: 1.30.0 Command: /Library/Frameworks/R.framework/Resources/bin/R CMD check --install=check:RITAN.install-out.txt --library=/Library/Frameworks/R.framework/Resources/library --no-vignettes --timings RITAN_1.30.0.tar.gz StartedAt: 2025-01-28 09:11:11 -0500 (Tue, 28 Jan 2025) EndedAt: 2025-01-28 09:21:17 -0500 (Tue, 28 Jan 2025) EllapsedTime: 605.9 seconds RetCode: 0 Status: WARNINGS CheckDir: RITAN.Rcheck Warnings: 1