Package: RGraph2js Version: 1.34.0 Command: /home/biocbuild/bbs-3.20-bioc/R/bin/R CMD INSTALL RGraph2js StartedAt: 2025-02-03 15:27:11 -0500 (Mon, 03 Feb 2025) EndedAt: 2025-02-03 15:27:14 -0500 (Mon, 03 Feb 2025) EllapsedTime: 2.8 seconds RetCode: 0 Status: OK