Package: RGraph2js Version: 1.34.0 Command: /Library/Frameworks/R.framework/Resources/bin/R CMD build --keep-empty-dirs --no-resave-data RGraph2js StartedAt: 2025-01-27 21:57:30 -0500 (Mon, 27 Jan 2025) EndedAt: 2025-01-27 21:57:56 -0500 (Mon, 27 Jan 2025) EllapsedTime: 26.6 seconds RetCode: 0 Status: OK PackageFile: RGraph2js_1.34.0.tar.gz PackageFileSize: 2.344 MiB