Package: RGSEA Version: 1.40.0 Command: /home/biocbuild/R/R/bin/R CMD INSTALL RGSEA StartedAt: 2025-01-27 21:02:34 -0000 (Mon, 27 Jan 2025) EndedAt: 2025-01-27 21:03:01 -0000 (Mon, 27 Jan 2025) EllapsedTime: 27.4 seconds RetCode: 0 Status: OK