Package: RGSEA Version: 1.40.0 Command: /Library/Frameworks/R.framework/Resources/bin/R CMD check --install=check:RGSEA.install-out.txt --library=/Library/Frameworks/R.framework/Resources/library --no-vignettes --timings RGSEA_1.40.0.tar.gz StartedAt: 2025-01-29 06:22:59 -0500 (Wed, 29 Jan 2025) EndedAt: 2025-01-29 06:23:40 -0500 (Wed, 29 Jan 2025) EllapsedTime: 40.6 seconds RetCode: 0 Status: OK CheckDir: RGSEA.Rcheck Warnings: 0