Package: RGMQL Version: 1.26.0 Command: chmod a+r RGMQL -R && F:\biocbuild\bbs-3.20-bioc\R\bin\R.exe CMD build --keep-empty-dirs --no-resave-data RGMQL StartedAt: 2025-01-27 21:28:45 -0500 (Mon, 27 Jan 2025) EndedAt: 2025-01-27 21:31:01 -0500 (Mon, 27 Jan 2025) EllapsedTime: 135.7 seconds RetCode: 1 Status: ERROR PackageFile: None PackageFileSize: NA