Package: RESOLVE Version: 1.8.0 Command: F:\biocbuild\bbs-3.20-bioc\R\bin\R.exe CMD INSTALL RESOLVE StartedAt: 2025-01-27 17:05:49 -0500 (Mon, 27 Jan 2025) EndedAt: 2025-01-27 17:06:41 -0500 (Mon, 27 Jan 2025) EllapsedTime: 52.1 seconds RetCode: 0 Status: OK