Package: RESOLVE Version: 1.8.0 Command: /home/biocbuild/bbs-3.20-bioc/R/bin/R CMD INSTALL RESOLVE StartedAt: 2025-02-03 16:10:26 -0500 (Mon, 03 Feb 2025) EndedAt: 2025-02-03 16:11:11 -0500 (Mon, 03 Feb 2025) EllapsedTime: 44.6 seconds RetCode: 0 Status: OK