Package: RESOLVE Version: 1.8.0 Command: /Library/Frameworks/R.framework/Resources/bin/R CMD INSTALL RESOLVE StartedAt: 2025-02-10 16:42:37 -0500 (Mon, 10 Feb 2025) EndedAt: 2025-02-10 16:43:57 -0500 (Mon, 10 Feb 2025) EllapsedTime: 80.5 seconds RetCode: 0 Status: OK