Package: RESOLVE Version: 1.8.0 Command: /Library/Frameworks/R.framework/Resources/bin/R CMD check --install=check:RESOLVE.install-out.txt --library=/Library/Frameworks/R.framework/Resources/library --no-vignettes --timings RESOLVE_1.8.0.tar.gz StartedAt: 2025-02-11 09:09:14 -0500 (Tue, 11 Feb 2025) EndedAt: 2025-02-11 09:30:51 -0500 (Tue, 11 Feb 2025) EllapsedTime: 1297.6 seconds RetCode: 0 Status: OK CheckDir: RESOLVE.Rcheck Warnings: 0