Package: RESOLVE Version: 1.8.0 Command: /Library/Frameworks/R.framework/Resources/bin/R CMD check --install=check:RESOLVE.install-out.txt --library=/Library/Frameworks/R.framework/Resources/library --no-vignettes --timings RESOLVE_1.8.0.tar.gz StartedAt: 2025-02-05 07:18:02 -0500 (Wed, 05 Feb 2025) EndedAt: 2025-02-05 07:34:53 -0500 (Wed, 05 Feb 2025) EllapsedTime: 1011.4 seconds RetCode: 0 Status: OK CheckDir: RESOLVE.Rcheck Warnings: 0