Package: RESOLVE Version: 1.8.0 Command: rm -rf RESOLVE.buildbin-libdir && mkdir RESOLVE.buildbin-libdir && /Users/biocbuild/BBS/utils/build-universal.sh RESOLVE_1.8.0.tar.gz /Library/Frameworks/R.framework/Resources/bin/R RESOLVE.buildbin-libdir StartedAt: 2025-01-29 16:10:11 -0500 (Wed, 29 Jan 2025) EndedAt: 2025-01-29 16:11:01 -0500 (Wed, 29 Jan 2025) EllapsedTime: 50.3 seconds RetCode: 0 Status: OK PackageFile: RESOLVE_1.8.0.tgz PackageFileSize: 888.1 KiB