Package: REMP Version: 1.30.0 Command: /home/biocbuild/bbs-3.20-bioc/R/bin/R CMD INSTALL REMP StartedAt: 2025-02-10 15:59:48 -0500 (Mon, 10 Feb 2025) EndedAt: 2025-02-10 16:00:40 -0500 (Mon, 10 Feb 2025) EllapsedTime: 52.3 seconds RetCode: 0 Status: OK