Package: REMP Version: 1.30.0 Command: /home/biocbuild/bbs-3.20-bioc/R/bin/R CMD check --install=check:REMP.install-out.txt --library=/home/biocbuild/bbs-3.20-bioc/R/site-library --timings REMP_1.30.0.tar.gz StartedAt: 2025-02-11 01:32:40 -0500 (Tue, 11 Feb 2025) EndedAt: 2025-02-11 01:41:03 -0500 (Tue, 11 Feb 2025) EllapsedTime: 503.6 seconds RetCode: 0 Status: OK CheckDir: REMP.Rcheck Warnings: 0