Package: REDseq Version: 1.52.0 Command: rm -rf REDseq.buildbin-libdir && mkdir REDseq.buildbin-libdir && F:\biocbuild\bbs-3.20-bioc\R\bin\R.exe CMD INSTALL --build --library=REDseq.buildbin-libdir REDseq_1.52.0.tar.gz StartedAt: 2025-04-01 09:00:38 -0400 (Tue, 01 Apr 2025) EndedAt: 2025-04-01 09:01:36 -0400 (Tue, 01 Apr 2025) EllapsedTime: 57.9 seconds RetCode: 0 Status: OK PackageFile: REDseq_1.52.0.zip PackageFileSize: 217 KiB