Package: REDseq Version: 1.52.0 Command: /Library/Frameworks/R.framework/Resources/bin/R CMD build --keep-empty-dirs --no-resave-data REDseq StartedAt: 2025-01-27 21:53:22 -0500 (Mon, 27 Jan 2025) EndedAt: 2025-01-27 21:55:47 -0500 (Mon, 27 Jan 2025) EllapsedTime: 145.2 seconds RetCode: 0 Status: OK PackageFile: REDseq_1.52.0.tar.gz PackageFileSize: 360.8 KiB