Package: REBET Version: 1.24.0 Command: /home/biocbuild/R/R/bin/R CMD check --install=check:REBET.install-out.txt --library=/home/biocbuild/R/R/site-library --no-vignettes --timings REBET_1.24.0.tar.gz StartedAt: 2025-01-28 10:26:46 -0000 (Tue, 28 Jan 2025) EndedAt: 2025-01-28 10:27:40 -0000 (Tue, 28 Jan 2025) EllapsedTime: 54.1 seconds RetCode: 0 Status: OK CheckDir: REBET.Rcheck Warnings: 0