Package: REBET Version: 1.24.0 Command: /home/biocbuild/bbs-3.20-bioc/R/bin/R CMD INSTALL REBET StartedAt: 2025-03-31 16:00:50 -0400 (Mon, 31 Mar 2025) EndedAt: 2025-03-31 16:00:56 -0400 (Mon, 31 Mar 2025) EllapsedTime: 6.1 seconds RetCode: 0 Status: OK