Package: REBET Version: 1.24.0 Command: /Library/Frameworks/R.framework/Resources/bin/R CMD INSTALL REBET StartedAt: 2025-03-31 18:15:57 -0400 (Mon, 31 Mar 2025) EndedAt: 2025-03-31 18:16:05 -0400 (Mon, 31 Mar 2025) EllapsedTime: 8.1 seconds RetCode: 0 Status: OK