Package: REBET Version: 1.24.0 Command: /Library/Frameworks/R.framework/Resources/bin/R CMD check --install=check:REBET.install-out.txt --library=/Library/Frameworks/R.framework/Resources/library --no-vignettes --timings REBET_1.24.0.tar.gz StartedAt: 2025-04-02 05:37:56 -0400 (Wed, 02 Apr 2025) EndedAt: 2025-04-02 05:38:53 -0400 (Wed, 02 Apr 2025) EllapsedTime: 57.9 seconds RetCode: 0 Status: WARNINGS CheckDir: REBET.Rcheck Warnings: 1