Package: REBET Version: 1.24.0 Command: /Library/Frameworks/R.framework/Resources/bin/R CMD build --keep-empty-dirs --no-resave-data REBET StartedAt: 2025-04-01 05:58:52 -0400 (Tue, 01 Apr 2025) EndedAt: 2025-04-01 05:59:09 -0400 (Tue, 01 Apr 2025) EllapsedTime: 17.1 seconds RetCode: 0 Status: OK PackageFile: REBET_1.24.0.tar.gz PackageFileSize: 309.9 KiB