Package: RDRToolbox Version: 1.56.0 Command: /home/biocbuild/R/R/bin/R CMD INSTALL RDRToolbox StartedAt: 2025-02-03 20:53:36 -0000 (Mon, 03 Feb 2025) EndedAt: 2025-02-03 20:53:39 -0000 (Mon, 03 Feb 2025) EllapsedTime: 3.1 seconds RetCode: 0 Status: OK