Package: RDRToolbox Version: 1.56.0 Command: /home/biocbuild/R/R/bin/R CMD build --keep-empty-dirs --no-resave-data RDRToolbox StartedAt: 2025-01-28 02:40:26 -0000 (Tue, 28 Jan 2025) EndedAt: 2025-01-28 02:40:35 -0000 (Tue, 28 Jan 2025) EllapsedTime: 9.0 seconds RetCode: 0 Status: OK PackageFile: RDRToolbox_1.56.0.tar.gz PackageFileSize: 185.9 KiB