Package: RDRToolbox Version: 1.56.0 Command: chmod a+r RDRToolbox -R && F:\biocbuild\bbs-3.20-bioc\R\bin\R.exe CMD build --keep-empty-dirs --no-resave-data RDRToolbox StartedAt: 2025-01-27 21:24:22 -0500 (Mon, 27 Jan 2025) EndedAt: 2025-01-27 21:24:46 -0500 (Mon, 27 Jan 2025) EllapsedTime: 24.7 seconds RetCode: 0 Status: OK PackageFile: RDRToolbox_1.56.0.tar.gz PackageFileSize: 191 KiB