Package: RDRToolbox Version: 1.56.0 Command: /Library/Frameworks/R.framework/Resources/bin/R CMD build --keep-empty-dirs --no-resave-data RDRToolbox StartedAt: 2025-01-28 06:12:07 -0500 (Tue, 28 Jan 2025) EndedAt: 2025-01-28 06:12:27 -0500 (Tue, 28 Jan 2025) EllapsedTime: 20.0 seconds RetCode: 0 Status: OK PackageFile: RDRToolbox_1.56.0.tar.gz PackageFileSize: 190.4 KiB