Package: RDRToolbox Version: 1.56.0 Command: rm -rf RDRToolbox.buildbin-libdir && mkdir RDRToolbox.buildbin-libdir && /Users/biocbuild/BBS/utils/build-universal.sh RDRToolbox_1.56.0.tar.gz /Library/Frameworks/R.framework/Resources/bin/R RDRToolbox.buildbin-libdir StartedAt: 2025-01-29 16:07:18 -0500 (Wed, 29 Jan 2025) EndedAt: 2025-01-29 16:07:22 -0500 (Wed, 29 Jan 2025) EllapsedTime: 4.5 seconds RetCode: 0 Status: OK PackageFile: RDRToolbox_1.56.0.tgz PackageFileSize: 187.7 KiB