Package: RCy3 Version: 2.26.0 Command: /home/biocbuild/R/R/bin/R CMD check --install=check:RCy3.install-out.txt --library=/home/biocbuild/R/R/site-library --no-vignettes --timings RCy3_2.26.0.tar.gz StartedAt: 2025-02-04 10:16:00 -0000 (Tue, 04 Feb 2025) EndedAt: 2025-02-04 10:17:23 -0000 (Tue, 04 Feb 2025) EllapsedTime: 83.2 seconds RetCode: 0 Status: OK CheckDir: RCy3.Rcheck Warnings: 0