Package: RCy3 Version: 2.26.0 Command: rm -rf RCy3.buildbin-libdir && mkdir RCy3.buildbin-libdir && F:\biocbuild\bbs-3.20-bioc\R\bin\R.exe CMD INSTALL --build --library=RCy3.buildbin-libdir RCy3_2.26.0.tar.gz StartedAt: 2025-04-01 08:59:21 -0400 (Tue, 01 Apr 2025) EndedAt: 2025-04-01 09:01:55 -0400 (Tue, 01 Apr 2025) EllapsedTime: 153.8 seconds RetCode: 0 Status: OK PackageFile: RCy3_2.26.0.zip PackageFileSize: 7.346 MiB