Package: RCy3 Version: 2.26.0 Command: rm -rf RCy3.buildbin-libdir && mkdir RCy3.buildbin-libdir && /Users/biocbuild/BBS/utils/build-universal.sh RCy3_2.26.0.tar.gz /Library/Frameworks/R.framework/Resources/bin/R RCy3.buildbin-libdir StartedAt: 2025-04-01 12:33:02 -0400 (Tue, 01 Apr 2025) EndedAt: 2025-04-01 12:33:43 -0400 (Tue, 01 Apr 2025) EllapsedTime: 40.8 seconds RetCode: 0 Status: OK PackageFile: RCy3_2.26.0.tgz PackageFileSize: 7.324 MiB