Package: RCy3 Version: 2.26.0 Command: /Library/Frameworks/R.framework/Resources/bin/R CMD build --keep-empty-dirs --no-resave-data RCy3 StartedAt: 2025-01-28 06:11:33 -0500 (Tue, 28 Jan 2025) EndedAt: 2025-01-28 06:12:25 -0500 (Tue, 28 Jan 2025) EllapsedTime: 52.6 seconds RetCode: 0 Status: OK PackageFile: RCy3_2.26.0.tar.gz PackageFileSize: 6.457 MiB