Package: RCy3 Version: 2.26.0 Command: rm -rf RCy3.buildbin-libdir && mkdir RCy3.buildbin-libdir && /Users/biocbuild/BBS/utils/build-universal.sh RCy3_2.26.0.tar.gz /Library/Frameworks/R.framework/Resources/bin/R RCy3.buildbin-libdir StartedAt: 2025-02-05 17:19:59 -0500 (Wed, 05 Feb 2025) EndedAt: 2025-02-05 17:20:18 -0500 (Wed, 05 Feb 2025) EllapsedTime: 19.2 seconds RetCode: 0 Status: OK PackageFile: RCy3_2.26.0.tgz PackageFileSize: 7.313 MiB