Package: RCX Version: 1.10.0 Command: /home/biocbuild/R/R/bin/R CMD build --keep-empty-dirs --no-resave-data RCX StartedAt: 2025-02-11 01:48:45 -0000 (Tue, 11 Feb 2025) EndedAt: 2025-02-11 01:49:15 -0000 (Tue, 11 Feb 2025) EllapsedTime: 30.0 seconds RetCode: 0 Status: OK PackageFile: RCX_1.10.0.tar.gz PackageFileSize: 4.673 MiB