Package: RCX Version: 1.10.0 Command: F:\biocbuild\bbs-3.20-bioc\R\bin\R.exe CMD check --no-multiarch --install=check:RCX.install-out.txt --library=F:\biocbuild\bbs-3.20-bioc\R\library --no-vignettes --timings RCX_1.10.0.tar.gz StartedAt: 2025-02-11 05:16:03 -0500 (Tue, 11 Feb 2025) EndedAt: 2025-02-11 05:17:24 -0500 (Tue, 11 Feb 2025) EllapsedTime: 80.9 seconds RetCode: 0 Status: OK CheckDir: RCX.Rcheck Warnings: 0