Package: RCX Version: 1.10.0 Command: /Library/Frameworks/R.framework/Resources/bin/R CMD INSTALL RCX StartedAt: 2025-02-03 15:18:32 -0500 (Mon, 03 Feb 2025) EndedAt: 2025-02-03 15:19:01 -0500 (Mon, 03 Feb 2025) EllapsedTime: 28.1 seconds RetCode: 0 Status: OK