Package: RCX Version: 1.10.0 Command: /Library/Frameworks/R.framework/Resources/bin/R CMD build --keep-empty-dirs --no-resave-data RCX StartedAt: 2025-02-03 21:35:45 -0500 (Mon, 03 Feb 2025) EndedAt: 2025-02-03 21:36:46 -0500 (Mon, 03 Feb 2025) EllapsedTime: 61.7 seconds RetCode: 0 Status: OK PackageFile: RCX_1.10.0.tar.gz PackageFileSize: 4.573 MiB